BEGIN:VCALENDAR
VERSION:2.0
PRODID:-//European Theatre Lab - ECPv4.7.3//NONSGML v1.0//EN
CALSCALE:GREGORIAN
METHOD:PUBLISH
X-WR-CALNAME:European Theatre Lab
X-ORIGINAL-URL:https://www.europeantheatrelab.eu
X-WR-CALDESC:Events for European Theatre Lab
BEGIN:VEVENT
DTSTART;VALUE=DATE:20171024
DTEND;VALUE=DATE:20171026
DTSTAMP:20260423T070821
CREATED:20170901T113118Z
LAST-MODIFIED:20171011T165315Z
UID:5552-1508803200-1508975999@www.europeantheatrelab.eu
SUMMARY:OpenLab 6: Stage Your City
DESCRIPTION:After the first OpenLab in Nancy\, France in November 2016 on the project Stage Your City (developed by Théatre de la Manufacture Nancy\, Badisches Staatstheater Karlsruhe and Kote Marjanishvili State Theatre Tbilisi) this second Lab will bring together the different strains of work on the artistic and technological side. First results will be shown at the partner meeting with all 7 partner theatres that follows the OpenLab on 25/26 October. \n
URL:https://www.europeantheatrelab.eu/event/openlab-5/
LOCATION:Kote Marjanishvili State Drama Theatre\, Tblisi\, Georgia
CATEGORIES:Open Lab
END:VEVENT
END:VCALENDAR