BEGIN:VCALENDAR
VERSION:2.0
PRODID:-//European Theatre Lab - ECPv4.7.3//NONSGML v1.0//EN
CALSCALE:GREGORIAN
METHOD:PUBLISH
X-WR-CALNAME:European Theatre Lab
X-ORIGINAL-URL:https://www.europeantheatrelab.eu
X-WR-CALDESC:Events for European Theatre Lab
BEGIN:VEVENT
DTSTART;TZID=Europe/Berlin:20170406T080000
DTEND;TZID=Europe/Berlin:20170409T170000
DTSTAMP:20260423T140125
CREATED:20170312T111234Z
LAST-MODIFIED:20170901T112226Z
UID:5537-1491465600-1491757200@www.europeantheatrelab.eu
SUMMARY:Official Launch / Conference “Digital Innovation In Theatre”
DESCRIPTION:
URL:https://www.europeantheatrelab.eu/event/office-launch-conference-digital-innovation-theatre/
LOCATION:ZKM Center for Arts and Media\, Karlsruhe\, Germany
CATEGORIES:Conference
END:VEVENT
END:VCALENDAR